BEGIN:VCALENDAR
VERSION:2.0
CALSCALE:GREGORIAN
BEGIN:VEVENT
DTSTART;TZID=Europe/Berlin:20230705T083000
DTEND;TZID=Europe/Berlin:20230706T000000
SUMMARY:vocatium Regensburg 2023 - Danube Arena 05.07.2023
DESCRIPTION:
END:VEVENT
END:VCALENDAR