BEGIN:VCALENDAR
VERSION:2.0
CALSCALE:GREGORIAN
BEGIN:VEVENT
DTSTART;TZID=Europe/Berlin:20250604T083000
DTEND;TZID=Europe/Berlin:20250605T000000
SUMMARY:Vocatium Dresden
DESCRIPTION:Get to know the courses on offer at the HSZG at the two-day careers fair.
END:VEVENT
END:VCALENDAR