BEGIN:VCALENDAR
VERSION:2.0
CALSCALE:GREGORIAN
BEGIN:VEVENT
DTSTART;TZID=Europe/Berlin:20220622T140000
DTEND;TZID=Europe/Berlin:20220627T000000
SUMMARY:Virtual TRAWOS research colloquium
DESCRIPTION:Remembering - Telling - Acting. Potential and limits of narrative identity-building processes using the example of storytelling salons.
END:VEVENT
END:VCALENDAR