BEGIN:VCALENDAR
VERSION:2.0
CALSCALE:GREGORIAN
BEGIN:VEVENT
DTSTART;TZID=Europe/Berlin:20230215T140000
DTEND;TZID=Europe/Berlin:20230216T000000
SUMMARY:TRAWOS internal research colloquium
DESCRIPTION:Gender equality work at the HSZG
END:VEVENT
END:VCALENDAR