BEGIN:VCALENDAR
VERSION:2.0
CALSCALE:GREGORIAN
BEGIN:VEVENT
DTSTART;TZID=Europe/Berlin:20230713T121500
DTEND;TZID=Europe/Berlin:20230714T000000
SUMMARY:TRAWOS research colloquium
DESCRIPTION:Presentation of the TRAWOS project &quot;Elitenmonitor&quot; with Jan Schaller
END:VEVENT
END:VCALENDAR