BEGIN:VCALENDAR
VERSION:2.0
CALSCALE:GREGORIAN
BEGIN:VEVENT
DTSTART;TZID=Europe/Berlin:20221221T140000
DTEND;TZID=Europe/Berlin:20221222T000000
SUMMARY:TRAWOS research colloquium
DESCRIPTION:&quot;Investigating transformation as a formative change. Research methodological challenges and guiding research principles&quot; with JProf. Dr. Maria Kondratjuk\, TU Dresden
END:VEVENT
END:VCALENDAR