BEGIN:VCALENDAR
VERSION:2.0
CALSCALE:GREGORIAN
BEGIN:VEVENT
DTSTART;TZID=Europe/Berlin:20231130T140000
DTEND;TZID=Europe/Berlin:20231201T000000
SUMMARY:TRAWOS Research Colloquium
DESCRIPTION:Refugees Welcome in rural areas?
END:VEVENT
END:VCALENDAR