BEGIN:VCALENDAR
VERSION:2.0
CALSCALE:GREGORIAN
BEGIN:VEVENT
DTSTART;TZID=Europe/Berlin:20250505T150000
DTEND;TZID=Europe/Berlin:20250506T000000
SUMMARY:Technology explained clearly - from smartphones to smart homes
DESCRIPTION:On 05.05.2025\, the team of the Active-Assisted-Living sub-project of the Transfervebrund Saxony5 invites you to the AAL laboratory in Görlitz to get to know and understand the world of technology!
END:VEVENT
END:VCALENDAR