BEGIN:VCALENDAR
VERSION:2.0
CALSCALE:GREGORIAN
BEGIN:VEVENT
DTSTART;TZID=Europe/Berlin:20250208T120000
DTEND;TZID=Europe/Berlin:20250124T000000
SUMMARY:&quot;Shaping structural change in Lausitz in a gender-equitable way&quot;
DESCRIPTION:Master&#039;s degree program in the management of social change is committed to gender-equitable structural change at the 18th Future Forum for Rural Development
END:VEVENT
END:VCALENDAR