BEGIN:VCALENDAR
VERSION:2.0
CALSCALE:GREGORIAN
BEGIN:VEVENT
DTSTART;TZID=Europe/Berlin:20221214T133000
DTEND;TZID=Europe/Berlin:20221215T000000
SUMMARY:Meeting Working Group for Gender Equality\, Inclusion\, Women&#039;s and Diversity Studies (AGIFD)
DESCRIPTION:For all interested university members.
END:VEVENT
END:VCALENDAR