BEGIN:VCALENDAR
VERSION:2.0
CALSCALE:GREGORIAN
BEGIN:VEVENT
DTSTART;TZID=Europe/Berlin:20220624T143000
DTEND;TZID=Europe/Berlin:20220628T000000
SUMMARY:Should I stay or should I go - creating encounters in and with the East
DESCRIPTION:Dr. Julia Gabler in a panel discussion at the conference &quot;The Art of Encounter&quot; of the Dramaturgical Society at the Theater Junge Generation in Dresden (22.-26.06.2022)
END:VEVENT
END:VCALENDAR