BEGIN:VCALENDAR
VERSION:2.0
CALSCALE:GREGORIAN
BEGIN:VEVENT
DTSTART;TZID=Europe/Berlin:20231108T161500
DTEND;TZID=Europe/Berlin:20231109T000000
SUMMARY:SeniorenKolleg Zittau\:How helpful is geography for understanding climate change
DESCRIPTION:Lecture event in Zittau
END:VEVENT
END:VCALENDAR