BEGIN:VCALENDAR
VERSION:2.0
CALSCALE:GREGORIAN
BEGIN:VEVENT
DTSTART;TZID=Europe/Berlin:20240605T161500
DTEND;TZID=Europe/Berlin:20240606T000000
SUMMARY:SeniorenKolleg Zittau\: The position of HAWs in the tertiary education sector
DESCRIPTION:Contribution of Studium fundamentale to dies academicus
END:VEVENT
END:VCALENDAR