BEGIN:VCALENDAR
VERSION:2.0
CALSCALE:GREGORIAN
BEGIN:VEVENT
DTSTART;TZID=Europe/Berlin:20250305T161500
DTEND;TZID=Europe/Berlin:20250306T000000
SUMMARY:SeniorenKolleg Zittau\: From the life of a mayor
DESCRIPTION:Problems and anecdotes of a small Saxon town after reunification
END:VEVENT
END:VCALENDAR