BEGIN:VCALENDAR
VERSION:2.0
CALSCALE:GREGORIAN
BEGIN:VEVENT
DTSTART;TZID=Europe/Berlin:20250129T161500
DTEND;TZID=Europe/Berlin:20250130T000000
SUMMARY:SeniorenKolleg Görlitz\: From the life of a mayor - problems and anecdotes of a small Saxon town after reunification
DESCRIPTION:Lecture event in Görlitz
END:VEVENT
END:VCALENDAR