BEGIN:VCALENDAR
VERSION:2.0
CALSCALE:GREGORIAN
BEGIN:VEVENT
DTSTART;TZID=Europe/Berlin:20220701T150000
DTEND;TZID=Europe/Berlin:20220702T000000
SUMMARY:Look up! Why does an airplane fly?
DESCRIPTION:A special offer for students interested in studying business administration or industrial engineering
END:VEVENT
END:VCALENDAR