BEGIN:VCALENDAR
VERSION:2.0
CALSCALE:GREGORIAN
BEGIN:VEVENT
DTSTART;TZID=Europe/Berlin:20230819T080000
DTEND;TZID=Europe/Berlin:20230820T000000
SUMMARY:Sailing for Soul\: The 2023 sailing camp
DESCRIPTION:Team development on the high seas
END:VEVENT
END:VCALENDAR