BEGIN:VCALENDAR
VERSION:2.0
CALSCALE:GREGORIAN
BEGIN:VEVENT
DTSTART;TZID=Europe/Berlin:20230504T161500
DTEND;TZID=Europe/Berlin:20230505T000000
SUMMARY:Lecture series\: &quot;Resilience in crisis capitalism - against the praise of adaptability&quot;
DESCRIPTION:
END:VEVENT
END:VCALENDAR