BEGIN:VCALENDAR
VERSION:2.0
CALSCALE:GREGORIAN
BEGIN:VEVENT
DTSTART;TZID=Europe/Berlin:20220630T190000
DTEND;TZID=Europe/Berlin:20220701T000000
SUMMARY:Lecture series as part of the East-West College in the summer semester 2022 - &quot;Life on the border&quot;
DESCRIPTION:&quot;Dealing with boundaries\: Recognition and Devaluation in Biographical Narratives of Older Women from East Germany&quot;hybrid via edudip and at the Görlitz campus\, GI\, lecture hall 0.01
END:VEVENT
END:VCALENDAR