BEGIN:VCALENDAR
VERSION:2.0
CALSCALE:GREGORIAN
BEGIN:VEVENT
DTSTART;TZID=Europe/Berlin:20230601T161500
DTEND;TZID=Europe/Berlin:20230602T000000
SUMMARY:Lecture series\: &quot;Decarbonization from the perspective of the global energy industry&quot;
DESCRIPTION:
END:VEVENT
END:VCALENDAR