BEGIN:VCALENDAR
VERSION:2.0
CALSCALE:GREGORIAN
BEGIN:VEVENT
DTSTART;TZID=Europe/Berlin:20230523T180000
DTEND;TZID=Europe/Berlin:20230524T000000
SUMMARY:Lecture series\: The new emergency representation law for spouses in health care matters
DESCRIPTION:
END:VEVENT
END:VCALENDAR