BEGIN:VCALENDAR
VERSION:2.0
CALSCALE:GREGORIAN
BEGIN:VEVENT
DTSTART;TZID=Europe/Berlin:20250304T130000
DTEND;TZID=Europe/Berlin:20250305T000000
SUMMARY:Network colloquium\: Innovative materials in the circular economy and environmental protection
DESCRIPTION:Colloquium of the RENI project
END:VEVENT
END:VCALENDAR