BEGIN:VCALENDAR
VERSION:2.0
CALSCALE:GREGORIAN
BEGIN:VEVENT
DTSTART;TZID=Europe/Berlin:20240702T130000
DTEND;TZID=Europe/Berlin:20240703T000000
SUMMARY:Research consultation
DESCRIPTION:Series of events in the University Library
END:VEVENT
END:VCALENDAR