BEGIN:VCALENDAR
VERSION:2.0
CALSCALE:GREGORIAN
BEGIN:VEVENT
DTSTART;TZID=Europe/Berlin:20240404T090000
DTEND;TZID=Europe/Berlin:20240405T000000
SUMMARY:Psychosocial counseling
DESCRIPTION:in Görlitz by the Studentenwerk Dresden
END:VEVENT
END:VCALENDAR