BEGIN:VCALENDAR
VERSION:2.0
CALSCALE:GREGORIAN
BEGIN:VEVENT
DTSTART;TZID=Europe/Berlin:20230607T090000
DTEND;TZID=Europe/Berlin:20230608T000000
SUMMARY:Program dies academicus
DESCRIPTION:On the occasion of the Dies Academicus on 07.06.2023\, we invite students\, university staff and all interested persons to an excursion and a lecture.
END:VEVENT
END:VCALENDAR