BEGIN:VCALENDAR
VERSION:2.0
CALSCALE:GREGORIAN
BEGIN:VEVENT
DTSTART;TZID=Europe/Berlin:20230112T160000
DTEND;TZID=Europe/Berlin:20230113T000000
SUMMARY:Polish and Czech consultation hours for prospective students
DESCRIPTION:The HSZG is opening its virtual doors for the University Information Day. Prospective students are cordially invited on January 12 to find out about the HSZG&#039;s offerings\, get a taste of lectures and much more.
END:VEVENT
END:VCALENDAR