BEGIN:VCALENDAR
VERSION:2.0
CALSCALE:GREGORIAN
BEGIN:VEVENT
DTSTART;TZID=Europe/Berlin:20241216T160000
DTEND;TZID=Europe/Berlin:20241217T000000
SUMMARY:Pasta &amp; project ideas
DESCRIPTION:Exchange on the topics of Studium fundamentale\, orientation year at the HSZG and innovative digital measures for students
END:VEVENT
END:VCALENDAR