BEGIN:VCALENDAR
VERSION:2.0
CALSCALE:GREGORIAN
BEGIN:VEVENT
DTSTART;TZID=Europe/Berlin:20220626T170000
DTEND;TZID=Europe/Berlin:20220627T000000
SUMMARY:Oratorio concert
DESCRIPTION:
END:VEVENT
END:VCALENDAR