BEGIN:VCALENDAR
VERSION:2.0
CALSCALE:GREGORIAN
BEGIN:VEVENT
DTSTART;TZID=Europe/Berlin:20211215T100000
DTEND;TZID=Europe/Berlin:20211216T000000
SUMMARY:[Online] Tourism\: The future of the region?
DESCRIPTION:Trilateral dialog - Germany\, Czech Republic\, Poland
END:VEVENT
END:VCALENDAR