BEGIN:VCALENDAR
VERSION:2.0
CALSCALE:GREGORIAN
BEGIN:VEVENT
DTSTART;TZID=Europe/Berlin:20221004T070000
DTEND;TZID=Europe/Berlin:20221005T000000
SUMMARY:Start of online enrollment for university sports
DESCRIPTION:Secure your sports courses for the winter semester 2022/23 now
END:VEVENT
END:VCALENDAR