BEGIN:VCALENDAR
VERSION:2.0
CALSCALE:GREGORIAN
BEGIN:VEVENT
DTSTART;TZID=Europe/Berlin:20210222T190000
DTEND;TZID=Europe/Berlin:20210223T190000
SUMMARY:[ONLINE] #CoronaDialog\: Can science still be believed?
DESCRIPTION:On the work of science in times of Corona
END:VEVENT
END:VCALENDAR