BEGIN:VCALENDAR
VERSION:2.0
CALSCALE:GREGORIAN
BEGIN:VEVENT
DTSTART;TZID=Europe/Berlin:20220701T160000
DTEND;TZID=Europe/Berlin:20220702T000000
SUMMARY:OHA! Adventure Science
DESCRIPTION:From late afternoon until late at night\, visitors of all ages can look forward to the event on July 1\, 2022\: &quot;OHA! Science Adventure&quot;.
END:VEVENT
END:VCALENDAR