BEGIN:VCALENDAR
VERSION:2.0
CALSCALE:GREGORIAN
BEGIN:VEVENT
DTSTART;TZID=Europe/Berlin:20240207T160000
DTEND;TZID=Europe/Berlin:20240208T000000
SUMMARY:Open AAL Lab Görlitz
DESCRIPTION:The Ambient Assisted Living laboratory provides an on-site insight into current assistance technologies for maintaining quality of life in old age.
END:VEVENT
END:VCALENDAR