BEGIN:VCALENDAR
VERSION:2.0
CALSCALE:GREGORIAN
BEGIN:VEVENT
DTSTART;TZID=Europe/Berlin:20240307T120000
DTEND;TZID=Europe/Berlin:20240309T000000
SUMMARY:Network meeting of Lausitz social scientists
DESCRIPTION:Topic &quot;Methods and approaches of impact-oriented research projects in Lausitz&quot;
END:VEVENT
END:VCALENDAR