BEGIN:VCALENDAR
VERSION:2.0
CALSCALE:GREGORIAN
BEGIN:VEVENT
DTSTART;TZID=Europe/Berlin:20230608T170000
DTEND;TZID=Europe/Berlin:20230609T000000
SUMMARY:Networking evening for business start-ups and start-ups - GründerGrillen
DESCRIPTION:For business founders &amp; those who want to become one &amp; those who already are...
END:VEVENT
END:VCALENDAR