BEGIN:VCALENDAR
VERSION:2.0
CALSCALE:GREGORIAN
BEGIN:VEVENT
DTSTART;TZID=Europe/Berlin:20230113T160000
DTEND;TZID=Europe/Berlin:20230114T000000
SUMMARY:Zittau Kinder Academy\: Visiting Löbau with the Kinder Academy
DESCRIPTION:3D printing and augmented reality\: experience the future up close
END:VEVENT
END:VCALENDAR