BEGIN:VCALENDAR
VERSION:2.0
CALSCALE:GREGORIAN
BEGIN:VEVENT
DTSTART;TZID=Europe/Berlin:20210104T020000
DTEND;TZID=Europe/Berlin:20210122T230000
SUMMARY:&quot;Mensch\, Görlitz! revisited&quot; [Exhibition in Görlitz town hall]
DESCRIPTION:Exhibition shows what Görlitz does in the afternoon - student project brings Görlitz residents closer together!
END:VEVENT
END:VCALENDAR