BEGIN:VCALENDAR
VERSION:2.0
CALSCALE:GREGORIAN
BEGIN:VEVENT
DTSTART;TZID=Europe/Berlin:20230505T100000
DTEND;TZID=Europe/Berlin:20230506T000000
SUMMARY:My scooter runs on hydrogen! Kinder Academy on site in the Weißwasser region
DESCRIPTION:My scooter runs on hydrogen!Kinder Academy on site in the region - guest in Weißwasser. Dr.-Ing. Sebastian Schmidt and Dipl.-Ing. Maciej Satora\;Fraunhofer Hydrogen Lab Görlitz. Event in cooperation with StationWeißwasser e.V.and Stadtwerke Weißwasser GmbH\, Straße des Friedens 13. Venue\: E-Werk Stadtwerke Weißwasser GmbH
END:VEVENT
END:VCALENDAR