BEGIN:VCALENDAR
VERSION:2.0
CALSCALE:GREGORIAN
BEGIN:VEVENT
DTSTART;TZID=Europe/Berlin:20240705T140000
DTEND;TZID=Europe/Berlin:20240706T000000
SUMMARY:Solution variants for the teaching material-time problem in engineering teaching
DESCRIPTION:The increasing abundance of teaching/learning content and the limited teaching time have long been a concern for university lecturers. Engineering education has dealt intensively with this problem and developed various solutions.
END:VEVENT
END:VCALENDAR