BEGIN:VCALENDAR
VERSION:2.0
CALSCALE:GREGORIAN
BEGIN:VEVENT
DTSTART;TZID=Europe/Berlin:20240518T000000
DTEND;TZID=Europe/Berlin:20240519T000000
SUMMARY:Linux Presentation Day
DESCRIPTION:
END:VEVENT
END:VCALENDAR