BEGIN:VCALENDAR
VERSION:2.0
CALSCALE:GREGORIAN
BEGIN:VEVENT
DTSTART;TZID=Europe/Berlin:20230516T090000
DTEND;TZID=Europe/Berlin:20230516T090000
SUMMARY:Cake bazaar
DESCRIPTION:On 16.05.2023 from 9 a.m. to 2 p.m. enjoy and do something good.
END:VEVENT
END:VCALENDAR