BEGIN:VCALENDAR
VERSION:2.0
CALSCALE:GREGORIAN
BEGIN:VEVENT
DTSTART;TZID=Europe/Berlin:20240301T150000
DTEND;TZID=Europe/Berlin:20240303T000000
SUMMARY:Canceled due to illness! Kinder Academy Zittau\: Granite - a treasure of our Upper Lusatia
DESCRIPTION:
END:VEVENT
END:VCALENDAR