BEGIN:VCALENDAR
VERSION:2.0
CALSCALE:GREGORIAN
BEGIN:VEVENT
DTSTART;TZID=Europe/Berlin:20230706T100000
DTEND;TZID=Europe/Berlin:20230708T000000
SUMMARY:&quot;No connection at this number...?&quot;
DESCRIPTION:Experiences\, challenges and strategies in reaching target groups in political education and research in rural East Saxony
END:VEVENT
END:VCALENDAR