BEGIN:VCALENDAR
VERSION:2.0
CALSCALE:GREGORIAN
BEGIN:VEVENT
DTSTART;TZID=Europe/Berlin:20230120T090000
DTEND;TZID=Europe/Berlin:20230123T000000
SUMMARY:Career fair\: Career Start Dresden
DESCRIPTION:
END:VEVENT
END:VCALENDAR