BEGIN:VCALENDAR
VERSION:2.0
CALSCALE:GREGORIAN
BEGIN:VEVENT
DTSTART;TZID=Europe/Berlin:20240907T100000
DTEND;TZID=Europe/Berlin:20240908T000000
SUMMARY:Career fair\: Do something!
DESCRIPTION:
END:VEVENT
END:VCALENDAR