BEGIN:VCALENDAR
VERSION:2.0
CALSCALE:GREGORIAN
BEGIN:VEVENT
DTSTART;TZID=Europe/Berlin:20240908T100000
DTEND;TZID=Europe/Berlin:20240909T000000
SUMMARY:Career fair\: Do something!
DESCRIPTION:
END:VEVENT
END:VCALENDAR