BEGIN:VCALENDAR
VERSION:2.0
CALSCALE:GREGORIAN
BEGIN:VEVENT
DTSTART;TZID=Europe/Berlin:20240928T093000
DTEND;TZID=Europe/Berlin:20241017T000000
SUMMARY:Young people discover technology for older generations
DESCRIPTION:On September 28 and 29\, 2024\, the GAT presented itself as part of the Zittau/Görlitz University of Applied Sciences with a stand where assistance technologies and an age simulation suit could be tried out.
END:VEVENT
END:VCALENDAR