BEGIN:VCALENDAR
VERSION:2.0
CALSCALE:GREGORIAN
BEGIN:VEVENT
DTSTART;TZID=Europe/Berlin:20220624T203000
DTEND;TZID=Europe/Berlin:20220625T000000
SUMMARY:Youth work Heimatbund Lückendorf-Oybin e.V. - Film &quot;Tomorrow belongs to us&quot;
DESCRIPTION:
END:VEVENT
END:VCALENDAR