BEGIN:VCALENDAR
VERSION:2.0
CALSCALE:GREGORIAN
BEGIN:VEVENT
DTSTART;TZID=Europe/Berlin:20250131T100000
DTEND;TZID=Europe/Berlin:20250201T000000
SUMMARY:Interdisciplinary workshop series of the institutes
DESCRIPTION:The DISENTANGLE team invites you to an interdisciplinary exchange!
END:VEVENT
END:VCALENDAR