BEGIN:VCALENDAR
VERSION:2.0
CALSCALE:GREGORIAN
BEGIN:VEVENT
DTSTART;TZID=Europe/Berlin:20220929T143000
DTEND;TZID=Europe/Berlin:20220930T000000
SUMMARY:Enrolment ceremony 2022
DESCRIPTION:Here our first semester students can find the most important information about their enrolment ceremony at Zittau/ Görlitz University of Applied Sciences for the winter semester 2022/23.
END:VEVENT
END:VCALENDAR